BEGIN:VCALENDAR
VERSION:2.0
PRODID:-//Talhof erleben - ECPv4.6.25//NONSGML v1.0//EN
CALSCALE:GREGORIAN
METHOD:PUBLISH
X-WR-CALNAME:Talhof erleben
X-ORIGINAL-URL:https://talhof-erleben.de
X-WR-CALDESC:Veranstaltungen für Talhof erleben
BEGIN:VEVENT
DTSTART;TZID=Europe/Berlin:20260627T200000
DTEND;TZID=Europe/Berlin:20260627T223000
DTSTAMP:20260420T030527
CREATED:20251101T220140Z
LAST-MODIFIED:20251218T112036Z
UID:5400-1782590400-1782599400@talhof-erleben.de
SUMMARY:Cake for Breakfast - delicious music
DESCRIPTION:Tini Stiefelmaier – Geige\, Voc / Katharina Ostarhild – Gitarre\, Voc / Nadia Morlion – Mandoline\, Voc. \n  \nCake for Breakfast ist ein bezauberndes Frauen-Trio. Die drei langjährigen Freundinnen begeistern das Publikum mit ihren englischen und deutschen Geschichten aus ihren nicht immer ganz normalen Leben. Mandoline\, Geige\, Gitarre und Irische Flöten wechseln sich ab mit dreistimmigem Gesang. Bluegrass\, Folk\, Pop\, Liedermacherei und viel Groove sind die idealen Zutaten für einen musikalischen Leckerbissen der besonderen Art. Nadia Morlion\, Tini Stiefelmayer und Katharina Ostarhild machen Delicous Music. \n„Das Tübinger Frauentrio Cake for Breakfast begeisterte im Talhof mit eigenen Songs und großer Virtuosität. Das Publikum hörte Lieder von Irland\, Liebe und Freiheit“ (Mercedes Rehm in der Heidenheim Zeitung) \n
URL:https://talhof-erleben.de/veranstaltung/cake-for-breakfast-delicious-music/
LOCATION:Talhofcafé\, Talhof 1\, Heidenheim\, Baden-Württemberg\, 89522\, Deutschland
ATTACH;FMTTYPE=image/jpeg:https://talhof-erleben.de/wp-content/uploads/2025/11/cake-for-breakfast-2.jpg
END:VEVENT
END:VCALENDAR