BEGIN:VCALENDAR
VERSION:2.0
PRODID:-//Talhof erleben - ECPv4.6.25//NONSGML v1.0//EN
CALSCALE:GREGORIAN
METHOD:PUBLISH
X-WR-CALNAME:Talhof erleben
X-ORIGINAL-URL:https://talhof-erleben.de
X-WR-CALDESC:Veranstaltungen für Talhof erleben
BEGIN:VEVENT
DTSTART;TZID=Europe/Berlin:20231208T183000
DTEND;TZID=Europe/Berlin:20231208T200000
DTSTAMP:20260422T120524
CREATED:20230730T102928Z
LAST-MODIFIED:20231121T205128Z
UID:5135-1702060200-1702065600@talhof-erleben.de
SUMMARY:Die Hirtenflöte
DESCRIPTION:Ein Weihnachtsprogramm mit Sighilt von Heynitz und Christine Riessner \nDrei Geschichten (von Selma Lagerlöf\, Dan Lindholm und Jeanne Oterdahl) erzählen von der Weihnacht\, der Geburt des Jesus von Nazareth. Die skandinavischen Märchen verzaubern den Zuhörer und nehmen ihn mit in die Stube einer alten\, einsamen Frau – oder zu einer Grossmutter mit ihrem Enkelkind – oder auf den gefahrvollen Weg eines Hirtenjungen zum Christkind nach Bethlehem. \nMusikalisch erklingen Werke aus der englischen und französischen Renaissance sowie weitere Kompositionen für Laute Solo. \n  \n
URL:https://talhof-erleben.de/veranstaltung/die-hirtenfloete/
LOCATION:Talhof\, »Cafe Talhof«\, 89522 Heidenheim\, Talhof 1
CATEGORIES:Jahreszeitliches,Kinder,Musik
ATTACH;FMTTYPE=image/jpeg:https://talhof-erleben.de/wp-content/uploads/2023/08/shepherd-900x960-1.jpg
END:VEVENT
END:VCALENDAR