BEGIN:VCALENDAR
VERSION:2.0
PRODID:-//Talhof erleben - ECPv4.6.25//NONSGML v1.0//EN
CALSCALE:GREGORIAN
METHOD:PUBLISH
X-WR-CALNAME:Talhof erleben
X-ORIGINAL-URL:https://talhof-erleben.de
X-WR-CALDESC:Veranstaltungen für Talhof erleben
BEGIN:VEVENT
DTSTART;TZID=Europe/Berlin:20190707T100000
DTEND;TZID=Europe/Berlin:20190707T180000
DTSTAMP:20260423T082907
CREATED:20190108T221445Z
LAST-MODIFIED:20190627T113004Z
UID:4725-1562493600-1562522400@talhof-erleben.de
SUMMARY:Großes Jubiläums-Hoffest
DESCRIPTION:90 Jahre biologisch-dynamische Landwirtschaft auf dem Talhof\nDer Talhof steht für die langjährige Geschichte der Biobewegung\, denn er ist der drittälteste Demeterhof der Welt. An diesem Wochenende wollen wir das mit Ihnen gemeinsam feiern. Bei diesem Anlass wird auch eine neue Chronik des Talhofs in Buchform präsentiert\, zu deren Entstehung jetzige und ehemalige Bewohner\, Freunde\, Kunden und Mitarbeiter des Talhofes beigetragen haben. \nWir freuen uns auf Ihren Besuch! \nSo. 7. Juli                               10.30 Uhr – 18 Uhr \n\nAnsprachen und Begrüßungsworte \nLivemusik mit »Erpfenbrass« und »Die Propeller«\nSchaukäsen und Verkostung mit Talhofprodukten\nGanztägiges Kinderprogramm (Kerzenziehen\, Schauimkern\, Eselparcour und anderes)\nZahlreiche Stände mit lukulischen Angeboten\nInformations- und Verkaufsstände\n\n… und vieles mehr \n
URL:https://talhof-erleben.de/veranstaltung/grosses-jubilaeums-hoffest-2/
LOCATION:Talhof\, Talhof 1\, Heidenheim\, 89522
CATEGORIES:Hoffest
ATTACH;FMTTYPE=image/jpeg:https://talhof-erleben.de/wp-content/uploads/2018/09/BG_1920.jpg
END:VEVENT
END:VCALENDAR