BEGIN:VCALENDAR
VERSION:2.0
PRODID:-//Talhof erleben - ECPv4.6.25//NONSGML v1.0//EN
CALSCALE:GREGORIAN
METHOD:PUBLISH
X-WR-CALNAME:Talhof erleben
X-ORIGINAL-URL:https://talhof-erleben.de
X-WR-CALDESC:Veranstaltungen für Talhof erleben
BEGIN:VEVENT
DTSTART;TZID=Europe/Berlin:20191206T150000
DTEND;TZID=Europe/Berlin:20191206T163000
DTSTAMP:20260422T143321
CREATED:20190925T101535Z
LAST-MODIFIED:20191105T173637Z
UID:4848-1575644400-1575649800@talhof-erleben.de
SUMMARY:Hofführung für Erwachsene und Kinder
DESCRIPTION:mit Benjamin Hoffmann (Landwirt & Pädagoge) \nDie Teilnahmegebühr in Höhe von 10 € (Schüler\, Studenten & Vereinsmitglieder 5 €) bitte vor Beginn der Führung bar bezahlen. \n
URL:https://talhof-erleben.de/veranstaltung/hoffuehrung-fuer-erwachsene-und-kinder-3/
LOCATION:Talhof\, Talhof 1\, Heidenheim\, 89522
CATEGORIES:Führung
ATTACH;FMTTYPE=image/jpeg:https://talhof-erleben.de/wp-content/uploads/2019/09/DSC_0163.jpg
END:VEVENT
END:VCALENDAR