BEGIN:VCALENDAR
VERSION:2.0
PRODID:-//Talhof erleben - ECPv4.6.25//NONSGML v1.0//EN
CALSCALE:GREGORIAN
METHOD:PUBLISH
X-WR-CALNAME:Talhof erleben
X-ORIGINAL-URL:https://talhof-erleben.de
X-WR-CALDESC:Veranstaltungen für Talhof erleben
BEGIN:VEVENT
DTSTART;TZID=Europe/Berlin:20251129T200000
DTEND;TZID=Europe/Berlin:20251129T223000
DTSTAMP:20260420T050223
CREATED:20251101T232727Z
LAST-MODIFIED:20251101T232727Z
UID:5403-1764446400-1764455400@talhof-erleben.de
SUMMARY:Liederabend - Mit Musikpoetry die Wolken verschieben
DESCRIPTION:SingerSongwriterin Manu Ittner ist die einfühlsame Stimme hinter klangvollen Texten mit Tiefgang. In ihren eigenen Kompositionen verbindet sie Sprachkunst mit musikalischer Sensibilität und formt daraus Lieder voller Wärme und Ausdruckskraft. Mit Lust am Wortspiel und einem feinen Gespür für das Poetische erfindet sie Begriffe\, erträumt Texte zwischen Sehnsucht\, Aufbruch und Lebensfreude – stets mit einem Augenzwinkern. Ihre Stimme bewegt sich zwischen leisen Tönen und kraftvoller Präsenz\, getragen von sorgfältig ausgewählten Harmonien\n„Klinke Tau“\, das sind Christine Bauer-Renner (Gitarre\, Gesang) und Stefan Renner (E-Gitarre). Sie schreiben\, spielen und singen eigene Songs auf Deutsch\, die sich zwischen Folk\, Pop\, Chanson und Singer-Songwriter-Genre bewegen. Zwischen ihren eleganten Melodien zeigen sich poetischen Wendungen\, zarter Gesang und ein feiner melancholischer Ausdruck. Seit kurzem tritt das ursprüngliche Duo gemeinsam mit dem fantastischen Cajon-Spieler Denis Blucke auf und erweitert sich so zum Trio.\n\nEintritt frei\, Spenden sind herzlich willkommen.\n
URL:https://talhof-erleben.de/veranstaltung/liederabend-mit-musikpoetry-die-wolken-verschieben/
LOCATION:Talhofcafé\, Talhof 1\, Heidenheim\, Baden-Württemberg\, 89522\, Deutschland
ATTACH;FMTTYPE=image/jpeg:https://talhof-erleben.de/wp-content/uploads/2025/11/Liederabend_Talhofcafe-scaled.jpg
END:VEVENT
END:VCALENDAR