BEGIN:VCALENDAR
VERSION:2.0
PRODID:-//Talhof erleben - ECPv4.6.25//NONSGML v1.0//EN
CALSCALE:GREGORIAN
METHOD:PUBLISH
X-WR-CALNAME:Talhof erleben
X-ORIGINAL-URL:https://talhof-erleben.de
X-WR-CALDESC:Veranstaltungen für Talhof erleben
BEGIN:VEVENT
DTSTART;TZID=Europe/Berlin:20230113T193000
DTEND;TZID=Europe/Berlin:20230113T210000
DTSTAMP:20260420T083951
CREATED:20221218T151758Z
LAST-MODIFIED:20221221T190655Z
UID:5102-1673638200-1673643600@talhof-erleben.de
SUMMARY:Novalis: "Fern im Osten wird es helle" - Evert van Grootel (Gesang) & Cristina Popa van Grootel (Klavier)
DESCRIPTION:Geistliche Lieder vertont von Schubert\, Schriefer\, Nilsson\, Burghardt Klaviermusik von Schubert\, Liszt\, Enescu. \nDas Duo Cristina und Evert van Grootel führte seit 2009 zahlreiche Programme auf mit Klavierwerken\, Liedern und Balladen\, u.a. „Franz Schuberts Bürgschaft und eine musikalische Europareise“\, „Freundschaft und Treue“\, „Novalisvertonungen und Klavierperlen“\, „Idyllisch- ländliche Pastorale“\, „Lebensspuren – eine musikalische Biographie“\, „Mozart am Klavier und Christian Morgenstern im Lied“\, „Deutscher Idealismus und rumänische Moderne“\, „Leipziger Klangspuren“\, European Spring concert“.  \nEintritt frei\, Spenden erbeten\n \n  \n
URL:https://talhof-erleben.de/veranstaltung/novalis-fern-im-osten-wird-es-helle-evert-van-grootel-gesang-cristina-popa-van-grootel-klavier/
LOCATION:Talhof\, »Cafe Talhof«\, 89522 Heidenheim\, Talhof 1
ATTACH;FMTTYPE=image/jpeg:https://talhof-erleben.de/wp-content/uploads/2022/12/Novalis_Talhof_klein-scaled.jpg
END:VEVENT
END:VCALENDAR